BEGIN:VCALENDAR
VERSION:2.0
PRODID:-//Play Fun Learn Studios - ECPv6.15.20//NONSGML v1.0//EN
CALSCALE:GREGORIAN
METHOD:PUBLISH
X-WR-CALNAME:Play Fun Learn Studios
X-ORIGINAL-URL:https://playfunlearnstudios.com
X-WR-CALDESC:Eventos para Play Fun Learn Studios
REFRESH-INTERVAL;VALUE=DURATION:PT1H
X-Robots-Tag:noindex
X-PUBLISHED-TTL:PT1H
BEGIN:VTIMEZONE
TZID:America/Santiago
BEGIN:STANDARD
TZOFFSETFROM:-0300
TZOFFSETTO:-0400
TZNAME:-04
DTSTART:20240407T030000
END:STANDARD
BEGIN:DAYLIGHT
TZOFFSETFROM:-0400
TZOFFSETTO:-0300
TZNAME:-03
DTSTART:20240908T040000
END:DAYLIGHT
BEGIN:STANDARD
TZOFFSETFROM:-0300
TZOFFSETTO:-0400
TZNAME:-04
DTSTART:20250406T030000
END:STANDARD
BEGIN:DAYLIGHT
TZOFFSETFROM:-0400
TZOFFSETTO:-0300
TZNAME:-03
DTSTART:20250907T040000
END:DAYLIGHT
BEGIN:STANDARD
TZOFFSETFROM:-0300
TZOFFSETTO:-0400
TZNAME:-04
DTSTART:20260405T030000
END:STANDARD
BEGIN:DAYLIGHT
TZOFFSETFROM:-0400
TZOFFSETTO:-0300
TZNAME:-03
DTSTART:20260906T040000
END:DAYLIGHT
END:VTIMEZONE
BEGIN:VEVENT
DTSTART;TZID=America/Santiago:20250829T170000
DTEND;TZID=America/Santiago:20250829T173000
DTSTAMP:20260422T085126
CREATED:20250822T231720Z
LAST-MODIFIED:20250823T234333Z
UID:10000016-1756486800-1756488600@playfunlearnstudios.com
SUMMARY:Cuentacuentos “De Otro Mundo” con Nico Toro en Rende Bu Café
DESCRIPTION:¡Una tarde especial para disfrutar en familia! El viernes 29 de agosto nos reuniremos en la acogedora cafetería Rende Bu para vivir un mágico Cuentacuentos junto a Nico Toro\, quien narrará el libro De Otro Mundo de la autora Mónica Tagle. \nDisfruta de un café mientras los más pequeños se sumergen en una historia que celebra la diversidad\, la empatía y la imaginación. \nUn panorama imperdible para compartir en familia.
URL:https://playfunlearnstudios.com/event/cuentacuentos-de-otro-mundo-nico-toro-rende-bu/
LOCATION:Rende Bu Café\, Av. Hernando de Aguirre 3645\, Providencia\, Región Metropolitana\, 7511071\, Chile
CATEGORIES:Cuenta Cuentos
ATTACH;FMTTYPE=image/png:https://playfunlearnstudios.com/wp-content/uploads/2025/08/Play-Fun-Learn-Studios-Rende-Bu-Cafe.png
ORGANIZER;CN="Editorial Play Fun Learn Studios":MAILTO:contact@playfunlearnstudios.com
GEO:-33.4406944;-70.5919376
X-APPLE-STRUCTURED-LOCATION;VALUE=URI;X-ADDRESS=Rende Bu Café Av. Hernando de Aguirre 3645 Providencia Región Metropolitana 7511071 Chile;X-APPLE-RADIUS=500;X-TITLE=Av. Hernando de Aguirre 3645:geo:-70.5919376,-33.4406944
END:VEVENT
END:VCALENDAR