BEGIN:VCALENDAR
VERSION:2.0
PRODID:-//Play Fun Learn Studios - ECPv6.15.20//NONSGML v1.0//EN
CALSCALE:GREGORIAN
METHOD:PUBLISH
X-WR-CALNAME:Play Fun Learn Studios
X-ORIGINAL-URL:https://playfunlearnstudios.com
X-WR-CALDESC:Eventos para Play Fun Learn Studios
REFRESH-INTERVAL;VALUE=DURATION:PT1H
X-Robots-Tag:noindex
X-PUBLISHED-TTL:PT1H
BEGIN:VTIMEZONE
TZID:America/Santiago
BEGIN:STANDARD
TZOFFSETFROM:-0300
TZOFFSETTO:-0400
TZNAME:-04
DTSTART:20240407T030000
END:STANDARD
BEGIN:DAYLIGHT
TZOFFSETFROM:-0400
TZOFFSETTO:-0300
TZNAME:-03
DTSTART:20240908T040000
END:DAYLIGHT
BEGIN:STANDARD
TZOFFSETFROM:-0300
TZOFFSETTO:-0400
TZNAME:-04
DTSTART:20250406T030000
END:STANDARD
BEGIN:DAYLIGHT
TZOFFSETFROM:-0400
TZOFFSETTO:-0300
TZNAME:-03
DTSTART:20250907T040000
END:DAYLIGHT
BEGIN:STANDARD
TZOFFSETFROM:-0300
TZOFFSETTO:-0400
TZNAME:-04
DTSTART:20260405T030000
END:STANDARD
BEGIN:DAYLIGHT
TZOFFSETFROM:-0400
TZOFFSETTO:-0300
TZNAME:-03
DTSTART:20260906T040000
END:DAYLIGHT
END:VTIMEZONE
BEGIN:VEVENT
DTSTART;TZID=America/Santiago:20250802T120000
DTEND;TZID=America/Santiago:20250802T133000
DTSTAMP:20260421T053859
CREATED:20250725T224359Z
LAST-MODIFIED:20250802T142629Z
UID:10000013-1754136000-1754141400@playfunlearnstudios.com
SUMMARY:Lanzamiento Oficial Libro "De Otro Mundo"
DESCRIPTION:Te invitamos al lanzamiento del sexto libro De Otro Mundo\, el nuevo libro de la autora Mónica Tagle\, a historia que nos habla con sensibilidad y ternura sobre el valor de las diferencias. \nContada desde la mirada de un hermano mayor\, esta obra nos invita a ver el mundo a través de otros ojos\, a reconocer que no todos los niños se expresan igual\, y que cada uno tiene su propia manera de sentir\, vivir y comunicar. \nUn libro que celebra el amor familiar\, la empatía y la importancia de acoger y respetar las particularidades de cada niño y niña\, tanto en el hogar como en la sociedad. \nDurante el evento podrás: \n\n✨ Escuchar un cuentacuentos en vivo\n📖 Conocer a la autora y llevarte tu libro firmado\n🎨 Disfrutar de actividades manuales para niños y niñas\n\nEntrada liberada – Actividad familiar \n¡Te esperamos para compartir historias\, risas y mucha magia!
URL:https://playfunlearnstudios.com/event/lanzamiento-libro-de-otro-mundo/
LOCATION:Librería Sin Moraleja\, Regina Pacis 703\, Ñuñoa\, Región Metropolitana\, 7770102\, Chile
CATEGORIES:Lanzamiento
ATTACH;FMTTYPE=image/png:https://playfunlearnstudios.com/wp-content/uploads/2025/07/De-Otro-Mundo.png
ORGANIZER;CN="Editorial Play Fun Learn Studios":MAILTO:contact@playfunlearnstudios.com
GEO:-33.4487018;-70.595493
X-APPLE-STRUCTURED-LOCATION;VALUE=URI;X-ADDRESS=Librería Sin Moraleja Regina Pacis 703 Ñuñoa Región Metropolitana 7770102 Chile;X-APPLE-RADIUS=500;X-TITLE=Regina Pacis 703:geo:-70.595493,-33.4487018
END:VEVENT
END:VCALENDAR