BEGIN:VCALENDAR
VERSION:2.0
PRODID:-//Play Fun Learn Studios - ECPv6.15.20//NONSGML v1.0//EN
CALSCALE:GREGORIAN
METHOD:PUBLISH
X-WR-CALNAME:Play Fun Learn Studios
X-ORIGINAL-URL:https://playfunlearnstudios.com
X-WR-CALDESC:Eventos para Play Fun Learn Studios
REFRESH-INTERVAL;VALUE=DURATION:PT1H
X-Robots-Tag:noindex
X-PUBLISHED-TTL:PT1H
BEGIN:VTIMEZONE
TZID:America/Santiago
BEGIN:STANDARD
TZOFFSETFROM:-0300
TZOFFSETTO:-0400
TZNAME:-04
DTSTART:20240407T030000
END:STANDARD
BEGIN:DAYLIGHT
TZOFFSETFROM:-0400
TZOFFSETTO:-0300
TZNAME:-03
DTSTART:20240908T040000
END:DAYLIGHT
BEGIN:STANDARD
TZOFFSETFROM:-0300
TZOFFSETTO:-0400
TZNAME:-04
DTSTART:20250406T030000
END:STANDARD
BEGIN:DAYLIGHT
TZOFFSETFROM:-0400
TZOFFSETTO:-0300
TZNAME:-03
DTSTART:20250907T040000
END:DAYLIGHT
BEGIN:STANDARD
TZOFFSETFROM:-0300
TZOFFSETTO:-0400
TZNAME:-04
DTSTART:20260405T030000
END:STANDARD
BEGIN:DAYLIGHT
TZOFFSETFROM:-0400
TZOFFSETTO:-0300
TZNAME:-03
DTSTART:20260906T040000
END:DAYLIGHT
END:VTIMEZONE
BEGIN:VEVENT
DTSTART;TZID=America/Santiago:20250427T100000
DTEND;TZID=America/Santiago:20250427T190000
DTSTAMP:20260419T091434
CREATED:20250426T125201Z
LAST-MODIFIED:20250426T125556Z
UID:10000008-1745748000-1745780400@playfunlearnstudios.com
SUMMARY:Participación en la Fiesta del Libro de Las Condes 2025
DESCRIPTION:¡Los invitamos a celebrar el Mes del Libro en la Fiesta del Libro de Las Condes 2025! \nPlay Fun Learn Studios estará presente el sábado 26 y domingo 27 de abril en el Centro Cultural de la Municipalidad de Las Condes. \nAdemás\, el domingo 27 a las 16:00 horas\, se realizará la presentación especial del libro “Mi Mejor Regalo” en el salón principal. \nUna historia emotiva para toda la familia\, escrita por Mónica Tagle. \n¡Ven a conocernos\, disfrutar de la literatura infantil y compartir un momento inolvidable! \nFechas y horarios: \n\nSábado 26 de abril de 2025 – Todo el día\nDomingo 27 de abril de 2025 – Todo el día\nPresentación especial: Domingo 27 de abril a las 16:00 horas (en el salón)\n\nLugar: \nCentro Cultural de la Municipalidad de Las Condes \nAv. Apoquindo 6570\, Las Condes\, Santiago \nEnlaces útiles: \n\nMás información sobre la Fiesta del Libro: Centro Cultural Las Condes\nConoce el libro “Mi Mejor Regalo”: Mi Mejor Regalo – Play Fun Learn Studios
URL:https://playfunlearnstudios.com/event/fiesta-del-libro-las-condes-2025/2025-04-27/
LOCATION:Corporación Cultural Las Condes\, Av. Apoquindo 6570\, Las Condes\, Región Metropolitana\, Chile
CATEGORIES:Cuenta Cuentos
ATTACH;FMTTYPE=image/jpeg:https://playfunlearnstudios.com/wp-content/uploads/2025/04/modulo_fiesta-del-libro_20250403.jpg
ORGANIZER;CN="Editorial Play Fun Learn Studios":MAILTO:contact@playfunlearnstudios.com
GEO:-33.4064718;-70.5619623
X-APPLE-STRUCTURED-LOCATION;VALUE=URI;X-ADDRESS=Corporación Cultural Las Condes Av. Apoquindo 6570 Las Condes Región Metropolitana Chile;X-APPLE-RADIUS=500;X-TITLE=Av. Apoquindo 6570:geo:-70.5619623,-33.4064718
END:VEVENT
BEGIN:VEVENT
DTSTART;TZID=America/Santiago:20250426T100000
DTEND;TZID=America/Santiago:20250426T190000
DTSTAMP:20260419T091434
CREATED:20250426T125201Z
LAST-MODIFIED:20250426T125556Z
UID:10000007-1745661600-1745694000@playfunlearnstudios.com
SUMMARY:Participación en la Fiesta del Libro de Las Condes 2025
DESCRIPTION:¡Los invitamos a celebrar el Mes del Libro en la Fiesta del Libro de Las Condes 2025! \nPlay Fun Learn Studios estará presente el sábado 26 y domingo 27 de abril en el Centro Cultural de la Municipalidad de Las Condes. \nAdemás\, el domingo 27 a las 16:00 horas\, se realizará la presentación especial del libro “Mi Mejor Regalo” en el salón principal. \nUna historia emotiva para toda la familia\, escrita por Mónica Tagle. \n¡Ven a conocernos\, disfrutar de la literatura infantil y compartir un momento inolvidable! \nFechas y horarios: \n\nSábado 26 de abril de 2025 – Todo el día\nDomingo 27 de abril de 2025 – Todo el día\nPresentación especial: Domingo 27 de abril a las 16:00 horas (en el salón)\n\nLugar: \nCentro Cultural de la Municipalidad de Las Condes \nAv. Apoquindo 6570\, Las Condes\, Santiago \nEnlaces útiles: \n\nMás información sobre la Fiesta del Libro: Centro Cultural Las Condes\nConoce el libro “Mi Mejor Regalo”: Mi Mejor Regalo – Play Fun Learn Studios
URL:https://playfunlearnstudios.com/event/fiesta-del-libro-las-condes-2025/2025-04-26/
LOCATION:Corporación Cultural Las Condes\, Av. Apoquindo 6570\, Las Condes\, Región Metropolitana\, Chile
CATEGORIES:Cuenta Cuentos
ATTACH;FMTTYPE=image/jpeg:https://playfunlearnstudios.com/wp-content/uploads/2025/04/modulo_fiesta-del-libro_20250403.jpg
ORGANIZER;CN="Editorial Play Fun Learn Studios":MAILTO:contact@playfunlearnstudios.com
GEO:-33.4064718;-70.5619623
X-APPLE-STRUCTURED-LOCATION;VALUE=URI;X-ADDRESS=Corporación Cultural Las Condes Av. Apoquindo 6570 Las Condes Región Metropolitana Chile;X-APPLE-RADIUS=500;X-TITLE=Av. Apoquindo 6570:geo:-70.5619623,-33.4064718
END:VEVENT
END:VCALENDAR