BEGIN:VCALENDAR
VERSION:2.0
PRODID:-//Play Fun Learn Studios - ECPv6.15.20//NONSGML v1.0//EN
CALSCALE:GREGORIAN
METHOD:PUBLISH
X-ORIGINAL-URL:https://playfunlearnstudios.com
X-WR-CALDESC:Eventos para Play Fun Learn Studios
REFRESH-INTERVAL;VALUE=DURATION:PT1H
X-Robots-Tag:noindex
X-PUBLISHED-TTL:PT1H
BEGIN:VTIMEZONE
TZID:America/Santiago
BEGIN:STANDARD
TZOFFSETFROM:-0300
TZOFFSETTO:-0400
TZNAME:-04
DTSTART:20240407T030000
END:STANDARD
BEGIN:DAYLIGHT
TZOFFSETFROM:-0400
TZOFFSETTO:-0300
TZNAME:-03
DTSTART:20240908T040000
END:DAYLIGHT
BEGIN:STANDARD
TZOFFSETFROM:-0300
TZOFFSETTO:-0400
TZNAME:-04
DTSTART:20250406T030000
END:STANDARD
BEGIN:DAYLIGHT
TZOFFSETFROM:-0400
TZOFFSETTO:-0300
TZNAME:-03
DTSTART:20250907T040000
END:DAYLIGHT
BEGIN:STANDARD
TZOFFSETFROM:-0300
TZOFFSETTO:-0400
TZNAME:-04
DTSTART:20260405T030000
END:STANDARD
BEGIN:DAYLIGHT
TZOFFSETFROM:-0400
TZOFFSETTO:-0300
TZNAME:-03
DTSTART:20260906T040000
END:DAYLIGHT
END:VTIMEZONE
BEGIN:VEVENT
DTSTART;TZID=America/Santiago:20250524T120000
DTEND;TZID=America/Santiago:20250524T180000
DTSTAMP:20260419T161900
CREATED:20250525T203530Z
LAST-MODIFIED:20250525T210922Z
UID:10000010-1748088000-1748109600@playfunlearnstudios.com
SUMMARY:Feria del Libro 2025 Colegio Rudolf Steiner
DESCRIPTION:📚✨ Ayer estuvimos presentes en la Feria del Libro del Colegio Rudolf Steiner\, compartiendo nuestras creaciones con niños\, niñas y familias. Presentamos nuestros libros bilingües y juegos didácticos\, pensados para fomentar el amor por la lectura y el aprendizaje lúdico desde los primeros años. \nFue una jornada llena de cuentos\, conversación y sonrisas\, donde conocimos a muchas personas interesadas en nuestra propuesta editorial y pedagógica. Agradecemos al colegio por la invitación y a todos quienes nos visitaron por su cariño e interés. ¡Nos vemos en una próxima feria!
URL:https://playfunlearnstudios.com/event/feria-libro-rudolf-steiner-2025/
LOCATION:Colegio Rudolf Steiner\, Antupirén 9591\, Peñalolén\, Región Metropolitana\, 7940803\, Chile
CATEGORIES:Feria Del Libro
ATTACH;FMTTYPE=image/jpeg:https://playfunlearnstudios.com/wp-content/uploads/2025/05/III-Fiesta-del-Libro-y-la-lectura-Colegio-Rudolf-Steiner.jpeg
ORGANIZER;CN="Editorial Play Fun Learn Studios":MAILTO:contact@playfunlearnstudios.com
GEO:-33.4835939;-70.530541
X-APPLE-STRUCTURED-LOCATION;VALUE=URI;X-ADDRESS=Colegio Rudolf Steiner Antupirén 9591 Peñalolén Región Metropolitana 7940803 Chile;X-APPLE-RADIUS=500;X-TITLE=Antupirén 9591:geo:-70.530541,-33.4835939
END:VEVENT
END:VCALENDAR