BEGIN:VCALENDAR
VERSION:2.0
PRODID:-//Play Fun Learn Studios - ECPv6.15.20//NONSGML v1.0//EN
CALSCALE:GREGORIAN
METHOD:PUBLISH
X-WR-CALNAME:Play Fun Learn Studios
X-ORIGINAL-URL:https://playfunlearnstudios.com
X-WR-CALDESC:Eventos para Play Fun Learn Studios
REFRESH-INTERVAL;VALUE=DURATION:PT1H
X-Robots-Tag:noindex
X-PUBLISHED-TTL:PT1H
BEGIN:VTIMEZONE
TZID:America/Santiago
BEGIN:STANDARD
TZOFFSETFROM:-0300
TZOFFSETTO:-0400
TZNAME:-04
DTSTART:20250406T030000
END:STANDARD
BEGIN:DAYLIGHT
TZOFFSETFROM:-0400
TZOFFSETTO:-0300
TZNAME:-03
DTSTART:20250907T040000
END:DAYLIGHT
BEGIN:STANDARD
TZOFFSETFROM:-0300
TZOFFSETTO:-0400
TZNAME:-04
DTSTART:20260405T030000
END:STANDARD
BEGIN:DAYLIGHT
TZOFFSETFROM:-0400
TZOFFSETTO:-0300
TZNAME:-03
DTSTART:20260906T040000
END:DAYLIGHT
BEGIN:STANDARD
TZOFFSETFROM:-0300
TZOFFSETTO:-0400
TZNAME:-04
DTSTART:20270404T030000
END:STANDARD
BEGIN:DAYLIGHT
TZOFFSETFROM:-0400
TZOFFSETTO:-0300
TZNAME:-03
DTSTART:20270905T040000
END:DAYLIGHT
END:VTIMEZONE
BEGIN:VEVENT
DTSTART;VALUE=DATE:20260419
DTEND;VALUE=DATE:20260420
DTSTAMP:20260419T143755
CREATED:20260417T183549Z
LAST-MODIFIED:20260417T183549Z
UID:10000020-1776556800-1776643199@playfunlearnstudios.com
SUMMARY:Cuenta Cuentos Alegras Gelato Café
DESCRIPTION:
URL:https://playfunlearnstudios.com/event/cuenta-cuentos-alegras-gelato-cafe/
LOCATION:ALLEGRA’S gelato cafè\, Padre Hurtado Central 1480\, 7561052 Santiago\, Las Condes\, Región Metropolitana\, Santiago\, Las Condes\, Chile
CATEGORIES:Cuenta Cuentos
ATTACH;FMTTYPE=image/webp:https://playfunlearnstudios.com/wp-content/uploads/2026/04/2025-12-15.webp
ORGANIZER;CN="Editorial Play Fun Learn Studios":MAILTO:contact@playfunlearnstudios.com
GEO:-33.405068;-70.5433939
X-APPLE-STRUCTURED-LOCATION;VALUE=URI;X-ADDRESS=ALLEGRA’S gelato cafè Padre Hurtado Central 1480 7561052 Santiago Las Condes Región Metropolitana Santiago Las Condes Chile;X-APPLE-RADIUS=500;X-TITLE=Padre Hurtado Central 1480\, 7561052 Santiago\, Las Condes\, Región Metropolitana:geo:-70.5433939,-33.405068
END:VEVENT
END:VCALENDAR